BEGIN:VCALENDAR
PRODID:-//Zentralgasthof Weinböhle//Events V1.0//DE
X-PUBLISHED-TTL:PT12H
X-ORIGINAL-URL:http://www.zentralgasthof.com/?cat=veranstaltungen&p=detail&id=761
VERSION:2.0
CALSCALE:GREGORIAN
METHOD:PUBLISH
BEGIN:VEVENT
CREATED:20260424T230243Z
ORGANIZER:Zentralgasthof Weinböhla
DTSTART:20261112T180000Z
DTEND:20261112T-200Z
UID:20260424T230243Z761@zentralgasthof.com
SEQUENCE:1
DTSTAMP:20260424T230243Z
TRANSP:OPAQUE
SUMMARY:2. WeinbÃ¶hlaer Lachnacht
LOCATION:Kirchplatz 2 | 01689 Weinböhla
URL:http://www.zentralgasthof.com/?cat=veranstaltungen&p=detail&id=761
DESCRIPTION:<div style="text-align: center;"><b><span style="font-size: xx-large;">Erleben Sie die 2. Weinb&ouml;hlaer Lachnacht am 12. November 2026!</span></b><br /></div><b><br /></b><div style="text-align: justify;"><span style="font-size: large;">Es erwartet Sie ein einzigartiger Abend voller Humor, Witz und unvergesslicher Lacher!&nbsp;</span><br /><span style="font-size: large;"></span></div><span style="font-size: large;"><br /></span><div style="text-align: justify;"><span style="font-size: large;">Die Moderation des Abends &uuml;bernimmt auch in diesem Jahr wieder die bekannte <span style="text-decoration: underline;"><b>Band Z&auml;rtlichkeiten mit Freunden</b></span>. Sie ist gut bis sehr gut. Die Zuzweitunterhalter Ines Fleiwa und Cordula Zwischenfsch haben&nbsp;</span><span style="font-size: large;">mehr als 20 Kleinkunst- und Comedypreise auf dem Schrank stehen. Dar&uuml;ber freuen sie sich dementsprechend. Die jeweiligen Eltern sind auch stolz darauf. Die beiden Grobmusiker gastierten bereits auf vielen Silberhochzeiten, Sportfesten und CB-Funkertreffen. Sie sind alte Hasen in der Unterhaltungsbranche. Z&auml;rtlichkeiten mit Freunden, um den Namen noch einmal zu nennen, spielen Hits. Aber das ist ihnen nicht genug, sie machen auch Witze. Das ist eigentlich schon alles, was wichtig ist.</span></div><div style="text-align: justify;"><br /><span style="font-size: large;"></span></div><div style="text-align: justify;"><span style="font-size: large;">Eingeladen haben die zwei bei dieser furiosen Show diesmal folgende G&auml;ste:</span><br /><span style="font-size: large;"></span></div><span style="font-size: large;"><br /></span><div><div style="text-align: justify;"><span style="font-size: large;"><b><span style="text-decoration: underline;">Jacky Feldmann</span></b> w&uuml;rde wahrscheinlich noch immer gem&uuml;tlich auf einer Wiese liegen mit einem Tetra Pak unterm Arm und einer&nbsp; Sonnenblume im Haar; w&auml;re da nicht pl&ouml;tzlich die Schule zu Ende gewesen. Was nun anfangen mit der neu gewonnenen Zukunft? Chemikerin, Polizistin oder doch Kl&auml;rwerktaucherin werden?</span><br /><span style="font-size: large;"></span></div><div style="text-align: justify;"><span style="font-size: large;">Eine Karriere als Hammerwerferin strebte Jacky zun&auml;chst an (kein Schei&szlig;), diese scheiterte doch an ihrer eher zierlichen Gestalt und ihrem quiekenden Wurfschrei. Die Wahl fiel schlussendlich auf einen&nbsp;</span><span style="font-size: large;">Schreibtisch-Job beim Finanzamt. Der Alltag zog ein; aber auch die Komik. Dass Umsatzsteuer und Mehrwertsteuer keine Pokemons sind, wusste die junge Sauerl&auml;nderin schon vorher. Doch die Geschichten,&nbsp;</span><span style="font-size: large;">die Jacky als Finanzbeamtin erfahren hat, sprechen eine eigene Sprache&hellip;</span></div></div><span style="font-size: large;"><br /></span><div style="text-align: justify;"><span style="font-size: large;"><b><span style="text-decoration: underline;">Thomas Nicolai</span></b> ist Parodist, Sprechk&uuml;nstler, Comedian und Entertainer. Auf der B&uuml;hne wechselt er die Charaktere so flink wie einst Klaus Kinski seine Laune. Die Versammlungsfreiheit gilt auch unter der</span><br /><span style="font-size: large;">Sch&auml;deldecke und so verstrickt der personifizierte &bdquo;Kessel Buntes&ldquo; wieder allerlei Charaktere in Szenen, die mal unorthodoxe Hilfestellung im Alltag geben, mal Seltsamstes zutage f&ouml;rdern, mal Historisches Revue passieren lassen und am Ende meist reichlich bescheuert eskalieren. Fehlen d&uuml;rfen nat&uuml;rlich auch nicht die Musikparodien. Zwischen Coldplay und Country, Max Raabe und Vamos a la Playa, zwischen Modern Talking und modernem Elektrosound werden Geh&ouml;rgang und Lachmuskeln gleicherma&szlig;en strapaziert. Am Ende&nbsp;</span><span style="font-size: large;">bleiben Lacher &uuml;ber Lacher und die Gewissheit, dass 1000 Stimmen bei ihm besser aufgehoben sind als bei manchem Wahlkandidat.</span><br /><span style="font-size: large;"></span></div><span style="font-size: large;"><br /></span><div style="text-align: justify;"><span style="font-size: large;">Wer <b><span style="text-decoration: underline;">Sebastian Kr&auml;mer </span></b>nicht kennt, der wei&szlig; vielleicht gar nicht, dass das gleichzeitig geht: Musik, die ber&uuml;hrt und &uuml;berrascht und Texte von eindringlicher Geschliffenheit, die ganze Romane in wenigen Minuten&nbsp;</span><span style="font-size: large;">erz&auml;hlen, eine Kleinigkeit voll Humor zum Leuchten bringen oder uns in Abgr&uuml;nde des Schreckens oder der Sehnsucht rei&szlig;en. Dazu eine einf&uuml;hlsam filigrane Stimme, die die oft schonungslosen Scherze lapidar&nbsp;</span><span style="font-size: large;">&uuml;berspielt, um den Feinheiten nachzusp&uuml;ren. Doch doch, lachen werden Sie an einem Abend mit Sebastian Kr&auml;mer auch. Sogar st&auml;ndig. Aber Sie werden am Ende nicht der Meinung sein, dass es sich dabei um den&nbsp;</span><span style="font-size: large;">entscheidenden Ertrag handelt.</span></div><span style="font-size: large;"><br /></span><div style="text-align: justify;"><span style="font-size: large;">Sp&auml;tzle, Sex &amp; Dolce Vita: <b><span style="text-decoration: underline;">Roberto Capitoni</span></b> f&uuml;hrt ein Leben zwischen Amore und Kehrwoche. Wir befinden uns im Jahre 1962 n. Chr. Ganz Schwaben ist von den R&ouml;mern besetzt... Ganz Schwaben, Nein! Ein von</span><br /><span style="font-size: large;">unbeugsamen Schw&auml;bischen-Allg&auml;uern bev&ouml;lkertes kleines St&auml;dtchen h&ouml;rt nicht auf, dem Eindringling Widerstand zu leisten. Erfahren Sie mehr &uuml;ber Robertos Kindheit, Schulbesuche, den ersten Kuss, seine&nbsp;</span><span style="font-size: large;">Zeit als Punk und wie er zur Comedy kam. Lernen Sie auch seinen Patenonkel auf Sizilien in Palermo kennen, wenn er Roberto, wieder einen seiner zahlreichen, gut gemeinten Tipps gibt, die aber leider nicht</span><br /><span style="font-size: large;">immer hilfreich im Leben waren. Seien Sie dabei, wenn Roberto wie der Tasmanische Teufel &uuml;ber die B&uuml;hne fegt, wie immer in 4D: Sehen, H&ouml;ren, F&uuml;hlen, Lachen.</span><br /><span style="font-size: large;"></span><br /><span style="font-size: large;">Freuen Sie sich auf ein Comedy-Feuerwerk, das nicht nur den Kopf zum Staunen, sondern auch das Herz vor Lachen h&ouml;her schlagen l&auml;sst. Vorhang auf f&uuml;r einen unvergesslichen Abend in Weinb&ouml;hla!</span></div>\n\nhttp://www.zentralgasthof.com/?cat=veranstaltungen&p=detail&id=761
CLASS:PUBLIC
STATUS:CONFIRMED
PARTSTAT:NEEDS-ACTION
END:VEVENT
END:VCALENDAR
