BEGIN:VCALENDAR
PRODID:-//Zentralgasthof Weinböhle//Events V1.0//DE
X-PUBLISHED-TTL:PT12H
X-ORIGINAL-URL:http://www.zentralgasthof.com/?cat=veranstaltungen&p=detail&id=819
VERSION:2.0
CALSCALE:GREGORIAN
METHOD:PUBLISH
BEGIN:VEVENT
CREATED:20260422T041026Z
ORGANIZER:Zentralgasthof Weinböhla
DTSTART:20260425T180000Z
DTEND:20260425T-200Z
UID:20260422T041026Z819@zentralgasthof.com
SEQUENCE:1
DTSTAMP:20260422T041026Z
TRANSP:OPAQUE
SUMMARY:KEIMZEIT
LOCATION:Kirchplatz 2 | 01689 Weinböhla
URL:http://www.zentralgasthof.com/?cat=veranstaltungen&p=detail&id=819
DESCRIPTION:<div style="text-align: center;"><b><span style="font-size: xx-large;">KEIMZEIT</span></b></div><div style="text-align: center;"><b><span style="font-size: xx-large;">Tour 2026</span></b></div><div style="text-align: justify;"><span style="font-size: large;"><br /></span></div><div style="text-align: justify;"><span style="font-size: large;">Endlich ist soweit: ab dem 17.04.2026 k&auml;uflich zu erwerben, im Zentralgasthof zum TOURSTART live zu h&ouml;ren, das neuen Album "Ach, die Menschen".</span></div><div style="text-align: justify;"><span style="font-size: large;"><br /></span></div><div style="text-align: justify;"><span style="font-size: large;">Eines der Markenzeichen von KEIMZEIT: Norbert Leisegangs unverwechselbarer Gesang.&nbsp;</span></div><div style="text-align: justify;"><span style="font-size: large;"><br /></span></div><div style="text-align: justify;"><span style="font-size: large;">Seit Anbeginn der Bandgeschichte stehen Norbert und sein Bruder Hartmut Leisegang (Bass) auf der KEIMZEIT B&uuml;hne. Andreas &bdquo;Spatz&ldquo; Sperling (Piano, Orgel, Gesang) ist seit 1993 an Bord. Dazu bereichern der Dresdner Lars Kutschke (Gitarre), Sebastian Nachtwei (Trompete, Fl&uuml;gelhorn und Gesang) und der Erfurter Lin Dittmann am Schlagzeug seit vielen Jahren die Band.</span></div><div style="text-align: justify;"><span style="font-size: large;"><br />KEIMZEIT Songs reflektieren unser Leben mal ironisch, mal spielerisch und meistens mit einem Augenzwinkern.</span></div><div style="text-align: justify;"><span style="font-size: large;"><br />Von rockig bis balladesk &ndash; die 6 Musiker bieten ein so breites Spektrum, dass man diese Band kaum in eine Schublade stecken kann. Ob mit &bdquo;Kling Klang&ldquo; nach Feuerland, auf einem Schiff nach &bdquo;Singapur&ldquo; oder mit dem &bdquo;Hausmeister&ldquo; zur &bdquo;Berlinale&ldquo; &ndash; KEIMZEIT Songs erz&auml;hlen charmante Geschichten und die Konzerte sind immer einen Besuch wert. Wer KEIMZEIT kennt und liebt, wird bei dieser Tour zum 14. Studioalbum dabei sein. Es ist nie zu sp&auml;t, gute Musik zu entdecken!</span></div>\n\nhttp://www.zentralgasthof.com/?cat=veranstaltungen&p=detail&id=819
CLASS:PUBLIC
STATUS:CONFIRMED
PARTSTAT:NEEDS-ACTION
END:VEVENT
END:VCALENDAR
