BEGIN:VCALENDAR
PRODID:-//Zentralgasthof Weinböhle//Events V1.0//DE
X-PUBLISHED-TTL:PT12H
X-ORIGINAL-URL:http://www.zentralgasthof.com/?cat=veranstaltungen&p=detail&id=787
VERSION:2.0
CALSCALE:GREGORIAN
METHOD:PUBLISH
BEGIN:VEVENT
CREATED:20260422T072804Z
ORGANIZER:Zentralgasthof Weinböhla
DTSTART:20260503T160000Z
DTEND:20260503T-200Z
UID:20260422T072804Z787@zentralgasthof.com
SEQUENCE:1
DTSTAMP:20260422T072804Z
TRANSP:OPAQUE
SUMMARY:Philharmonic Rock | Abenteuerland
LOCATION:Kirchplatz 2 | 01689 Weinböhla
URL:http://www.zentralgasthof.com/?cat=veranstaltungen&p=detail&id=787
DESCRIPTION:<table cellpadding="0" cellspacing="0" border="0"><tbody><tr><td><div style="text-align: center;"><b><span style="text-decoration: underline;"><span style="font-size: xx-large;">Philharmonic Rock | Abenteuerland</span></span></b></div><div style="text-align: center;"><b><span style="text-decoration: underline;"><span style="font-size: x-large;"><br /></span></span></b></div><div style="text-align: center;"><b><span style="text-decoration: underline;"><span style="font-size: x-large;"><br /></span></span></b></div><table style="text-align: justify;" cellpadding="0" cellspacing="0" border="0"><tbody><tr><td><span style="font-size: x-large;">&bdquo;Komm\n mit &ndash; komm mit mir ins Abenteuerland, auf deine eig&lsquo;ne Reise&ldquo;, so \nbesang es die Band Pur. Gehen Sie mit &bdquo;Philharmonic Rock &ndash; \nAbenteuerland&ldquo; auf eine musikalische Reise zwischen Rock- und Popmusik, \nFilm- und Jazzmusik der letzten Jahrzehnte sowie klassischer Musik aus \nverschiedenen Epochen, gespielt von einem Sinfonieorchester, einer \nRock-Band und mehreren Gesangssolisten. Das gut zweist&uuml;ndige Programm \nwird von jungen K&uuml;nstlerinnen und K&uuml;nstlern auf Vereinsebene \nzusammengestellt und besticht durch seine Abwechslung und positive \nEnergie. Freuen Sie sich auf Rock-Hymnen von Van Halen, emotionale \nBalladen von Adele und Jahrhunderthits wie &bdquo;Africa&ldquo; von Toto.<br /></span>\n<span style="font-size: x-large;"><br />\nSupport: Behle<br /></span>\n<span style="font-size: x-large;"><br />\nMusikalische Leitung: Sebastian Zippel<br /></span>\n<span style="font-size: x-large;"><br />\nSolistinnen und Solisten: Annabell Hertrampf, Hanna Brunn, Selma Semmoudi, Deborah Fr&ouml;hlich, Kevin Vogel<br /><br /><br /><br /></span></td></tr></tbody></table>                    </td>\n                </tr>\n            </tbody></table>\n\nhttp://www.zentralgasthof.com/?cat=veranstaltungen&p=detail&id=787
CLASS:PUBLIC
STATUS:CONFIRMED
PARTSTAT:NEEDS-ACTION
END:VEVENT
END:VCALENDAR
